BEGIN:VCALENDAR
PRODID:-//AT Content Types//AT Event//EN
VERSION:1.0
BEGIN:VEVENT
DTSTART:20160616T170000Z
DTEND:20160616T170000Z
DCREATED:20160531T111344Z
UID:ATEvent-855c75699183438d9c15745ecd4b648a
SEQUENCE:0
LAST-MODIFIED:20160701T092440Z
SUMMARY:Conferència
DESCRIPTION:Prevenció i detecció precoç del càncer de pell
PRIORITY:3
TRANSP:0
END:VEVENT
END:VCALENDAR
