BEGIN:VCALENDAR
PRODID:-//AT Content Types//AT Event//EN
VERSION:2.0
METHOD:PUBLISH
BEGIN:VEVENT
DTSTAMP:20260420T005136Z
CREATED:20160607T082704Z
UID:ATEvent-8c274cb71baa496e9dc4607c48263f39
LAST-MODIFIED:20160607T082923Z
SUMMARY:Audicions a l'Escola Municipal de Música
DTSTART:20160609T170000Z
DTEND:20160609T170000Z
DESCRIPTION:Audicions a l'Escola Municipal de Música
LOCATION:Sala de Plens de l'Ajuntament
CATEGORIES:Agenda
CLASS:PUBLIC
END:VEVENT
END:VCALENDAR
